BEGIN:VCALENDAR
VERSION:2.0
PRODID:-//theblessingcenterredlands.org//NONSGML kigkonsult.se iCalcreator 
 2.30.10//
CALSCALE:GREGORIAN
METHOD:PUBLISH
UID:f8ffb654-ac7c-409b-bf90-963751f61ef0
X-WR-CALDESC:
X-WR-RELCALID:5647615396c49ae93b4c3b0759e2687c
X-WR-TIMEZONE:America/Los_Angeles
BEGIN:VTIMEZONE
TZID:America/Los_Angeles
BEGIN:STANDARD
TZNAME:PST
DTSTART:20181104T020000
TZOFFSETFROM:-0700
TZOFFSETTO:-0800
RDATE:20191103T020000
RDATE:20201101T020000
END:STANDARD
BEGIN:DAYLIGHT
TZNAME:PDT
DTSTART:20190310T020000
TZOFFSETFROM:-0800
TZOFFSETTO:-0700
RDATE:20200308T020000
END:DAYLIGHT
END:VTIMEZONE
BEGIN:VEVENT
UID:f0f616eb-2b7b-4218-8590-d8e26bcff8e0
DTSTAMP:20260425T031806Z
DESCRIPTION:
DTSTART;TZID=America/Los_Angeles:20190907T083000
DTEND;TZID=America/Los_Angeles:20190907T113000
LOCATION:The Redlands Community Learning Garden
SUMMARY:Garden work day
END:VEVENT
END:VCALENDAR
