BEGIN:VCALENDAR
VERSION:2.0
PRODID:-//theblessingcenterredlands.org//NONSGML kigkonsult.se iCalcreator 
 2.30.10//
CALSCALE:GREGORIAN
METHOD:PUBLISH
UID:09fe5130-e2c6-427b-83fa-b272c4bb9190
X-WR-CALDESC:
X-WR-RELCALID:9e5b919c3da1e3f241191ea29019aa97
X-WR-TIMEZONE:America/Los_Angeles
BEGIN:VTIMEZONE
TZID:America/Los_Angeles
BEGIN:STANDARD
TZNAME:PST
DTSTART:20181104T020000
TZOFFSETFROM:-0700
TZOFFSETTO:-0800
RDATE:20191103T020000
RDATE:20201101T020000
END:STANDARD
BEGIN:DAYLIGHT
TZNAME:PDT
DTSTART:20190310T020000
TZOFFSETFROM:-0800
TZOFFSETTO:-0700
RDATE:20200308T020000
RDATE:20210314T020000
END:DAYLIGHT
END:VTIMEZONE
BEGIN:VEVENT
UID:c6615c23-be97-43dc-b792-808f1433ec79
DTSTAMP:20260425T031754Z
DESCRIPTION:
DTSTART;TZID=America/Los_Angeles:20190914T083000
DTEND;TZID=America/Los_Angeles:20190914T113000
LOCATION:The Redlands Community Learning Garden
SUMMARY:Garden work day
END:VEVENT
END:VCALENDAR
