BEGIN:VCALENDAR
VERSION:2.0
PRODID:-//theblessingcenterredlands.org//NONSGML kigkonsult.se iCalcreator 
 2.30.10//
CALSCALE:GREGORIAN
METHOD:PUBLISH
UID:439174a5-a4c9-439e-95c7-1291c30d4399
X-WR-CALDESC:
X-WR-RELCALID:0ee20a25b17b24880d6d06d78e4e22a0
X-WR-TIMEZONE:America/Los_Angeles
BEGIN:VTIMEZONE
TZID:America/Los_Angeles
BEGIN:STANDARD
TZNAME:PST
DTSTART:20181104T020000
TZOFFSETFROM:-0700
TZOFFSETTO:-0800
RDATE:20191103T020000
RDATE:20201101T020000
END:STANDARD
BEGIN:DAYLIGHT
TZNAME:PDT
DTSTART:20190310T020000
TZOFFSETFROM:-0800
TZOFFSETTO:-0700
RDATE:20200308T020000
RDATE:20210314T020000
END:DAYLIGHT
END:VTIMEZONE
BEGIN:VEVENT
UID:8cb822c6-008c-4580-aee2-a90421777b11
DTSTAMP:20260425T031753Z
DESCRIPTION:
DTSTART;TZID=America/Los_Angeles:20190921T083000
DTEND;TZID=America/Los_Angeles:20190921T113000
LOCATION:The Redlands Community Learning Garden
SUMMARY:Garden work day
END:VEVENT
END:VCALENDAR
