BEGIN:VCALENDAR
VERSION:2.0
PRODID:-//theblessingcenterredlands.org//NONSGML kigkonsult.se iCalcreator 
 2.30.10//
CALSCALE:GREGORIAN
METHOD:PUBLISH
UID:b9da62ed-9784-4880-aae9-61d4cf4de6ec
X-WR-CALDESC:
X-WR-RELCALID:fe9bd54c46ccea426077e4f27ff0b1c3
X-WR-TIMEZONE:America/Los_Angeles
BEGIN:VTIMEZONE
TZID:America/Los_Angeles
BEGIN:STANDARD
TZNAME:PST
DTSTART:20181104T020000
TZOFFSETFROM:-0700
TZOFFSETTO:-0800
RDATE:20191103T020000
RDATE:20201101T020000
END:STANDARD
BEGIN:DAYLIGHT
TZNAME:PDT
DTSTART:20190310T020000
TZOFFSETFROM:-0800
TZOFFSETTO:-0700
RDATE:20200308T020000
RDATE:20210314T020000
END:DAYLIGHT
END:VTIMEZONE
BEGIN:VEVENT
UID:8feaca52-1328-468b-8ea4-17dab6d1a3f7
DTSTAMP:20260425T031806Z
DESCRIPTION:
DTSTART;TZID=America/Los_Angeles:20190928T083000
DTEND;TZID=America/Los_Angeles:20190928T113000
LOCATION:The Redlands Community Learning Garden
SUMMARY:Garden work day
END:VEVENT
END:VCALENDAR
