BEGIN:VCALENDAR
VERSION:2.0
PRODID:-//theblessingcenterredlands.org//NONSGML kigkonsult.se iCalcreator 
 2.30.10//
CALSCALE:GREGORIAN
METHOD:PUBLISH
UID:ae89244c-65f1-4b28-a67d-9ee98c10dc0b
X-WR-CALDESC:Please join us for a fantastic   'HEART' WARMING Open House  a
 t Deborah's House of Hope\, our newest Transformative Housing  Program for
  homeless children and their mothers. Tour the residence\, meet the famili
 es\, share the love. Continental Breakfast and Raffle Prizes too!
X-WR-RELCALID:dd1024d285422393d92539247d7e54ed
X-WR-TIMEZONE:America/Los_Angeles
BEGIN:VTIMEZONE
TZID:America/Los_Angeles
BEGIN:STANDARD
TZNAME:PST
DTSTART:20181104T020000
TZOFFSETFROM:-0700
TZOFFSETTO:-0800
RDATE:20191103T020000
RDATE:20201101T020000
END:STANDARD
BEGIN:DAYLIGHT
TZNAME:PDT
DTSTART:20190310T020000
TZOFFSETFROM:-0800
TZOFFSETTO:-0700
RDATE:20200308T020000
RDATE:20210314T020000
END:DAYLIGHT
END:VTIMEZONE
BEGIN:VEVENT
UID:70975f66-28cb-42a3-952e-1453ef06a1b9
DTSTAMP:20260425T031804Z
DESCRIPTION:Please join us for a fantastic   'HEART' WARMING Open House  at
  Deborah's House of Hope\, our newest Transformative Housing  Program for 
 homeless children and their mothers. Tour the residence\, meet the familie
 s\, share the love. Continental Breakfast and Raffle Prizes too!
DTSTART;TZID=America/Los_Angeles:20191026T140000
DTEND;TZID=America/Los_Angeles:20191026T160000
LOCATION:1305 Thames Ct\, Redlands
SUMMARY:Deborah's House of Hope
END:VEVENT
END:VCALENDAR
