BEGIN:VCALENDAR
VERSION:2.0
PRODID:-//theblessingcenterredlands.org//NONSGML kigkonsult.se iCalcreator 
 2.30.10//
CALSCALE:GREGORIAN
METHOD:PUBLISH
UID:5c2089f5-941b-40d8-9fb5-5fed09ceb87e
X-WR-CALDESC:Open House at Hannah's House of Hope \nwith Tour of Redlands C
 ommunity Learning Garden\nOrnate Desserts by ConAmor\nRaffle prizes too!
X-WR-RELCALID:fd88636f0f4606c2a050bdd9fa23ad8f
X-WR-TIMEZONE:America/Los_Angeles
BEGIN:VTIMEZONE
TZID:America/Los_Angeles
BEGIN:STANDARD
TZNAME:PST
DTSTART:20181104T020000
TZOFFSETFROM:-0700
TZOFFSETTO:-0800
RDATE:20191103T020000
RDATE:20201101T020000
END:STANDARD
BEGIN:DAYLIGHT
TZNAME:PDT
DTSTART:20190310T020000
TZOFFSETFROM:-0800
TZOFFSETTO:-0700
RDATE:20200308T020000
RDATE:20210314T020000
END:DAYLIGHT
END:VTIMEZONE
BEGIN:VEVENT
UID:0288375d-38bb-45ec-a4d9-b0325723fcd3
DTSTAMP:20260425T031901Z
DESCRIPTION:Open House at Hannah's House of Hope \nwith Tour of Redlands Co
 mmunity Learning Garden\nOrnate Desserts by ConAmor\nRaffle prizes too!
DTSTART;TZID=America/Los_Angeles:20191026T140000
DTEND;TZID=America/Los_Angeles:20191026T160000
LOCATION:Deborah's House of Hope 1305 Thames Ct. Redlands\, CA 92374
SUMMARY:Deborah's House Open House and Hannah's House and Gardern Tour
END:VEVENT
END:VCALENDAR
