BEGIN:VCALENDAR
VERSION:2.0
PRODID:-//theblessingcenterredlands.org//NONSGML kigkonsult.se iCalcreator 
 2.30.10//
CALSCALE:GREGORIAN
METHOD:PUBLISH
UID:dff8e1cf-1044-4ae7-a474-8786bfda81fb
X-WR-CALDESC:Join us for a fun morning of Holiday cheer and toy give-away\n
 Because we just love kids!
X-WR-RELCALID:a7dab2f06856e0b38b6935f30a484afa
X-WR-TIMEZONE:America/Los_Angeles
BEGIN:VTIMEZONE
TZID:America/Los_Angeles
BEGIN:STANDARD
TZNAME:PST
DTSTART:20191103T020000
TZOFFSETFROM:-0700
TZOFFSETTO:-0800
RDATE:20201101T020000
END:STANDARD
BEGIN:DAYLIGHT
TZNAME:PDT
DTSTART:20190310T020000
TZOFFSETFROM:-0800
TZOFFSETTO:-0700
RDATE:20200308T020000
RDATE:20210314T020000
END:DAYLIGHT
END:VTIMEZONE
BEGIN:VEVENT
UID:529afa52-1605-42d1-8988-3da51638da1a
DTSTAMP:20260425T031823Z
DESCRIPTION:Join us for a fun morning of Holiday cheer and toy give-away\nB
 ecause we just love kids!
DTSTART;TZID=America/Los_Angeles:20191207T100000
DTEND;TZID=America/Los_Angeles:20191207T120000
LOCATION:Hannah's House of Hope 1157 Judson St. Redlands\, CA
SUMMARY:2019 Christmas Toy Give-Away
END:VEVENT
END:VCALENDAR
