BEGIN:VCALENDAR
VERSION:2.0
PRODID:-//theblessingcenterredlands.org//NONSGML kigkonsult.se iCalcreator 
 2.30.10//
CALSCALE:GREGORIAN
METHOD:PUBLISH
UID:bfcfab5b-4b27-42a7-88f8-4ebe0818da46
X-WR-CALDESC:Short trail walk with brunch and awards at Burrage Mansion
X-WR-RELCALID:51bea4e0cda225b894ff0658b2e16fe6
X-WR-TIMEZONE:America/Los_Angeles
BEGIN:VTIMEZONE
TZID:America/Los_Angeles
BEGIN:STANDARD
TZNAME:PST
DTSTART:20191103T020000
TZOFFSETFROM:-0700
TZOFFSETTO:-0800
RDATE:20201101T020000
RDATE:20211107T020000
END:STANDARD
BEGIN:DAYLIGHT
TZNAME:PDT
DTSTART:20200308T020000
TZOFFSETFROM:-0800
TZOFFSETTO:-0700
RDATE:20210314T020000
END:DAYLIGHT
END:VTIMEZONE
BEGIN:VEVENT
UID:c27b6d12-ec32-434a-b228-78b68f9c923c
DTSTAMP:20260425T014316Z
DESCRIPTION:Short trail walk with brunch and awards at Burrage Mansion
DTSTART;TZID=America/Los_Angeles:20200711T073000
DTEND;TZID=America/Los_Angeles:20200711T113000
LOCATION:Oakmont Trail & Burrage Mansion
SUMMARY:Hiking For Hope Fundraiser
END:VEVENT
END:VCALENDAR
