BEGIN:VCALENDAR
VERSION:2.0
PRODID:-//theblessingcenterredlands.org//NONSGML kigkonsult.se iCalcreator 
 2.30.10//
CALSCALE:GREGORIAN
METHOD:PUBLISH
UID:88f8de0c-e72d-4376-b796-96dd6057bc42
X-WR-CALDESC:Come out to experience a morning of planting veggies and flowe
 rs.  Meet first responders and get garden growing tips.\nFun and refreshme
 nts are waiting at The GARDEN at Hannah's House.
X-WR-RELCALID:f0d7872bcd4ff14a0777a49c42aa1e9d
X-WR-TIMEZONE:America/Los_Angeles
BEGIN:VTIMEZONE
TZID:America/Los_Angeles
BEGIN:STANDARD
TZNAME:PST
DTSTART:20201101T020000
TZOFFSETFROM:-0700
TZOFFSETTO:-0800
RDATE:20211107T020000
END:STANDARD
BEGIN:DAYLIGHT
TZNAME:PDT
DTSTART:20210314T020000
TZOFFSETFROM:-0800
TZOFFSETTO:-0700
RDATE:20220313T020000
END:DAYLIGHT
END:VTIMEZONE
BEGIN:VEVENT
UID:67a68247-c9bc-44a4-b9b6-f00ed233c29b
DTSTAMP:20260425T000709Z
DESCRIPTION:Come out to experience a morning of planting veggies and flower
 s.  Meet first responders and get garden growing tips.\nFun and refreshmen
 ts are waiting at The GARDEN at Hannah's House.
DTSTART;TZID=America/Los_Angeles:20210424T090000
DTEND;TZID=America/Los_Angeles:20210424T113000
LOCATION:1157 JUDSON ST\, REDLANDS\, CA 92374 US
SUMMARY:Spring Into Action Garden Launch
END:VEVENT
END:VCALENDAR
