BEGIN:VCALENDAR
VERSION:2.0
PRODID:-//theblessingcenterredlands.org//NONSGML kigkonsult.se iCalcreator 
 2.30.10//
CALSCALE:GREGORIAN
METHOD:PUBLISH
UID:f635805a-8741-4ad3-a8b6-25f7503db017
X-WR-CALDESC:
X-WR-RELCALID:e2f7aa95be95c6d534b7fdbcfad6a9ab
X-WR-TIMEZONE:America/Los_Angeles
BEGIN:VTIMEZONE
TZID:America/Los_Angeles
BEGIN:STANDARD
TZNAME:PST
DTSTART:20201101T020000
TZOFFSETFROM:-0700
TZOFFSETTO:-0800
RDATE:20211107T020000
RDATE:20221106T020000
END:STANDARD
BEGIN:DAYLIGHT
TZNAME:PDT
DTSTART:20210314T020000
TZOFFSETFROM:-0800
TZOFFSETTO:-0700
RDATE:20220313T020000
RDATE:20230312T020000
END:DAYLIGHT
END:VTIMEZONE
BEGIN:VEVENT
UID:c42f9283-1839-434e-a516-b16f3035a95e
DTSTAMP:20260425T000744Z
DESCRIPTION:
DTSTART;TZID=America/Los_Angeles:20210924T000000
DTEND;TZID=America/Los_Angeles:20210924T235900
LOCATION:
SUMMARY:Golfing for Hope Tournament
END:VEVENT
END:VCALENDAR
