BEGIN:VCALENDAR
VERSION:2.0
PRODID:-//theblessingcenterredlands.org//NONSGML kigkonsult.se iCalcreator 
 2.30.10//
CALSCALE:GREGORIAN
METHOD:PUBLISH
UID:29895b2d-08b9-4034-a785-38467c5a6913
X-WR-CALDESC:
X-WR-RELCALID:79ada3d492b6a7677f2dbced6407f77b
X-WR-TIMEZONE:America/Los_Angeles
BEGIN:VTIMEZONE
TZID:America/Los_Angeles
BEGIN:STANDARD
TZNAME:PST
DTSTART:20201101T020000
TZOFFSETFROM:-0700
TZOFFSETTO:-0800
RDATE:20211107T020000
RDATE:20221106T020000
END:STANDARD
BEGIN:DAYLIGHT
TZNAME:PDT
DTSTART:20210314T020000
TZOFFSETFROM:-0800
TZOFFSETTO:-0700
RDATE:20220313T020000
RDATE:20230312T020000
END:DAYLIGHT
END:VTIMEZONE
BEGIN:VEVENT
UID:53362c11-d132-46f4-b517-56e4524f1f6c
DTSTAMP:20260425T000746Z
DESCRIPTION:
DTSTART;TZID=America/Los_Angeles:20211016T080000
DTEND;TZID=America/Los_Angeles:20211016T103000
LOCATION:
SUMMARY:Hiking For Hope Fundraiser
END:VEVENT
END:VCALENDAR
