BEGIN:VCALENDAR
VERSION:2.0
PRODID:-//theblessingcenterredlands.org//NONSGML kigkonsult.se iCalcreator 
 2.30.10//
CALSCALE:GREGORIAN
METHOD:PUBLISH
UID:07c84bc4-51c8-49ae-bf05-88f19b378a57
X-WR-CALDESC:Free Garden Party....kid's activities\, Jump house\, treats\, 
 music & planting.
X-WR-RELCALID:8563977ea477b304b0462ed664621112
X-WR-TIMEZONE:America/Los_Angeles
BEGIN:VTIMEZONE
TZID:America/Los_Angeles
BEGIN:STANDARD
TZNAME:PST
DTSTART:20211107T020000
TZOFFSETFROM:-0700
TZOFFSETTO:-0800
RDATE:20221106T020000
END:STANDARD
BEGIN:DAYLIGHT
TZNAME:PDT
DTSTART:20220313T020000
TZOFFSETFROM:-0800
TZOFFSETTO:-0700
RDATE:20230312T020000
END:DAYLIGHT
END:VTIMEZONE
BEGIN:VEVENT
UID:1c1aa83f-df11-47d4-80c4-9619f70af089
DTSTAMP:20260424T222456Z
DESCRIPTION:Free Garden Party....kid's activities\, Jump house\, treats\, m
 usic & planting.
DTSTART;TZID=America/Los_Angeles:20220423T090000
DTEND;TZID=America/Los_Angeles:20220423T113000
LOCATION:
SUMMARY:Party with us in 'The Garden'
END:VEVENT
END:VCALENDAR
