BEGIN:VCALENDAR
VERSION:2.0
PRODID:-//theblessingcenterredlands.org//NONSGML kigkonsult.se iCalcreator 
 2.30.10//
CALSCALE:GREGORIAN
METHOD:PUBLISH
UID:1f1054e0-ba46-45e3-994f-f39c1566fb4c
X-WR-CALDESC:Come out with hundreds of other families and friends for a won
 derful hiking experience for all ages! \nEasy 1/2 hour walk/hike beginning
  at Oakmont Park.\nRegistration: 7:30 - 8:00 am. \nHike from 8:00 - 9:00 a
 m \nThe Hike is followed by a delicious brunch and  fun awards ceremony at
  the beautiful Burrage Mansion in Redlands beginning at 9:30 am. \nGreat w
 ay to start the summer season for adults and children! Dogs welcome (for h
 ike only.)\nPLEASE NOTE...FIRST 80 CHILDREN TO REGISTER WILL RECEIVE T-SHI
 RT AND SWAG BAG!
X-WR-RELCALID:75ad27bcd99f952660e6e4c761ec191b
X-WR-TIMEZONE:America/Los_Angeles
BEGIN:VTIMEZONE
TZID:America/Los_Angeles
BEGIN:STANDARD
TZNAME:PST
DTSTART:20211107T020000
TZOFFSETFROM:-0700
TZOFFSETTO:-0800
RDATE:20221106T020000
RDATE:20231105T020000
END:STANDARD
BEGIN:DAYLIGHT
TZNAME:PDT
DTSTART:20220313T020000
TZOFFSETFROM:-0800
TZOFFSETTO:-0700
RDATE:20230312T020000
END:DAYLIGHT
END:VTIMEZONE
BEGIN:VEVENT
UID:dcecd69e-f103-46e2-a96e-8f994ea58197
DTSTAMP:20260424T222428Z
DESCRIPTION:Come out with hundreds of other families and friends for a wond
 erful hiking experience for all ages! \nEasy 1/2 hour walk/hike beginning 
 at Oakmont Park.\nRegistration: 7:30 - 8:00 am. \nHike from 8:00 - 9:00 am
  \nThe Hike is followed by a delicious brunch and  fun awards ceremony at 
 the beautiful Burrage Mansion in Redlands beginning at 9:30 am. \nGreat wa
 y to start the summer season for adults and children! Dogs welcome (for hi
 ke only.)\nPLEASE NOTE...FIRST 80 CHILDREN TO REGISTER WILL RECEIVE T-SHIR
 T AND SWAG BAG!
DTSTART;TZID=America/Los_Angeles:20220604T000000
DTEND;TZID=America/Los_Angeles:20220604T235900
LOCATION:Begin Hike at Oakmont Park 31212 Sutherland Dr Redlands\, Awards B
 runch following at Burrage Mansion in Redlands
SUMMARY:Hiking For Hope Fundraiser
END:VEVENT
END:VCALENDAR
