BEGIN:VCALENDAR
VERSION:2.0
PRODID:-//theblessingcenterredlands.org//NONSGML kigkonsult.se iCalcreator 
 2.30.10//
CALSCALE:GREGORIAN
METHOD:PUBLISH
UID:83e6efbc-56c7-4fb9-bf53-ea62475d06c5
X-WR-CALDESC:Your generous support of our annual golf charity event helps i
 ncrease the safety and security of so many local children and their mother
 s who desperately  need your support.
X-WR-RELCALID:59c63c64dc02e80e4c1881c20f9788cb
X-WR-TIMEZONE:America/Los_Angeles
BEGIN:VTIMEZONE
TZID:America/Los_Angeles
BEGIN:STANDARD
TZNAME:PST
DTSTART:20211107T020000
TZOFFSETFROM:-0700
TZOFFSETTO:-0800
RDATE:20221106T020000
RDATE:20231105T020000
END:STANDARD
BEGIN:DAYLIGHT
TZNAME:PDT
DTSTART:20220313T020000
TZOFFSETFROM:-0800
TZOFFSETTO:-0700
RDATE:20230312T020000
RDATE:20240310T020000
END:DAYLIGHT
END:VTIMEZONE
BEGIN:VEVENT
UID:6e46ab82-51de-4b4a-9fd2-aed9cd18540b
DTSTAMP:20260424T222213Z
DESCRIPTION:Your generous support of our annual golf charity event helps in
 crease the safety and security of so many local children and their mothers
  who desperately  need your support.
DTSTART;TZID=America/Los_Angeles:20220923T080000
DTEND;TZID=America/Los_Angeles:20220923T140000
LOCATION:36211 Champion Dr. Beaumont CA 92223
SUMMARY:Golfing for Hope
END:VEVENT
END:VCALENDAR
