BEGIN:VCALENDAR
VERSION:2.0
PRODID:-//theblessingcenterredlands.org//NONSGML kigkonsult.se iCalcreator 
 2.30.10//
CALSCALE:GREGORIAN
METHOD:PUBLISH
UID:f1165d01-b8f3-427b-a47b-0c2f6b4a08b6
X-WR-CALDESC:
X-WR-RELCALID:4dc8c800e40123213ec1ac474c97fac1
X-WR-TIMEZONE:America/Los_Angeles
BEGIN:VTIMEZONE
TZID:America/Los_Angeles
BEGIN:STANDARD
TZNAME:PST
DTSTART:20211107T020000
TZOFFSETFROM:-0700
TZOFFSETTO:-0800
RDATE:20221106T020000
RDATE:20231105T020000
END:STANDARD
BEGIN:DAYLIGHT
TZNAME:PDT
DTSTART:20220313T020000
TZOFFSETFROM:-0800
TZOFFSETTO:-0700
RDATE:20230312T020000
RDATE:20240310T020000
END:DAYLIGHT
END:VTIMEZONE
BEGIN:VEVENT
UID:54985d30-3428-44a1-9122-9ba67c94f16c
DTSTAMP:20260424T222454Z
DESCRIPTION:
DTSTART;TZID=America/Los_Angeles:20221014T170000
DTEND;TZID=America/Los_Angeles:20221014T210000
LOCATION:1205 W. Crescent Ave. Redlands\,. CA 92374
SUMMARY:'Gifts of Hope' Gala
END:VEVENT
END:VCALENDAR
