BEGIN:VCALENDAR
VERSION:2.0
PRODID:-//theblessingcenterredlands.org//NONSGML kigkonsult.se iCalcreator 
 2.30.10//
CALSCALE:GREGORIAN
METHOD:PUBLISH
UID:66f66938-3792-46f9-a61b-2126a9f0034f
X-WR-CALDESC:Art in the Garden - Painting Event hosted by art instructor Na
 talie. Art parties open to anyone interested in art instruction in a beaut
 iful garden setting. Come join us with your friends and family!
X-WR-RELCALID:0195af5117c5c1368205b2d7b8aacb0e
X-WR-TIMEZONE:America/Los_Angeles
BEGIN:VTIMEZONE
TZID:America/Los_Angeles
BEGIN:STANDARD
TZNAME:PST
DTSTART:20211107T020000
TZOFFSETFROM:-0700
TZOFFSETTO:-0800
RDATE:20221106T020000
RDATE:20231105T020000
END:STANDARD
BEGIN:DAYLIGHT
TZNAME:PDT
DTSTART:20220313T020000
TZOFFSETFROM:-0800
TZOFFSETTO:-0700
RDATE:20230312T020000
RDATE:20240310T020000
END:DAYLIGHT
END:VTIMEZONE
BEGIN:VEVENT
UID:9deaf489-8ecb-4661-89da-674802c20f24
DTSTAMP:20260424T222347Z
DESCRIPTION:Art in the Garden - Painting Event hosted by art instructor Nat
 alie. Art parties open to anyone interested in art instruction in a beauti
 ful garden setting. Come join us with your friends and family!
DTSTART;TZID=America/Los_Angeles:20221105T110000
DTEND;TZID=America/Los_Angeles:20221105T123000
LOCATION:1157 JUDSON ST.\, REDLANDS\, CA 92374 US
SUMMARY:Art Parties & More!
END:VEVENT
END:VCALENDAR
