BEGIN:VCALENDAR
VERSION:2.0
PRODID:-//theblessingcenterredlands.org//NONSGML kigkonsult.se iCalcreator 
 2.30.10//
CALSCALE:GREGORIAN
METHOD:PUBLISH
UID:c71ea313-d07d-458f-9796-1fc366f8f054
X-WR-CALDESC:Monthly enrichment and gardening classes for all children in o
 ur community.
X-WR-RELCALID:4c2e007b92974d74b15dd58284825339
X-WR-TIMEZONE:America/Los_Angeles
BEGIN:VTIMEZONE
TZID:America/Los_Angeles
BEGIN:STANDARD
TZNAME:PST
DTSTART:20221106T020000
TZOFFSETFROM:-0700
TZOFFSETTO:-0800
RDATE:20231105T020000
END:STANDARD
BEGIN:DAYLIGHT
TZNAME:PDT
DTSTART:20220313T020000
TZOFFSETFROM:-0800
TZOFFSETTO:-0700
RDATE:20230312T020000
RDATE:20240310T020000
END:DAYLIGHT
END:VTIMEZONE
BEGIN:VEVENT
UID:75641622-5c42-4351-b1fe-55e878cdae14
DTSTAMP:20260424T222306Z
DESCRIPTION:Monthly enrichment and gardening classes for all children in ou
 r community.
DTSTART;TZID=America/Los_Angeles:20221118T093000
DTEND;TZID=America/Los_Angeles:20221118T113000
LOCATION:1157 JUDSON ST.\, REDLANDS\, CA 92374 US
SUMMARY:Sprout & Blossom
END:VEVENT
END:VCALENDAR
