BEGIN:VCALENDAR
VERSION:2.0
PRODID:-//theblessingcenterredlands.org//NONSGML kigkonsult.se iCalcreator 
 2.30.10//
CALSCALE:GREGORIAN
METHOD:PUBLISH
UID:872c1a90-6bf4-4a30-a041-4bbe59fbebb8
X-WR-CALDESC:Come join us for a special work cay in 'The Garden' at Hannah'
 s House of Hope!\nWe will preparing grow beds and planting our Winter Gard
 en crops.\nRefreshments will be waiting!
X-WR-RELCALID:0ac5df0f4d605bd6149da706e64a9c0e
X-WR-TIMEZONE:America/Los_Angeles
BEGIN:VTIMEZONE
TZID:America/Los_Angeles
BEGIN:STANDARD
TZNAME:PST
DTSTART:20221106T020000
TZOFFSETFROM:-0700
TZOFFSETTO:-0800
RDATE:20231105T020000
END:STANDARD
BEGIN:DAYLIGHT
TZNAME:PDT
DTSTART:20220313T020000
TZOFFSETFROM:-0800
TZOFFSETTO:-0700
RDATE:20230312T020000
RDATE:20240310T020000
END:DAYLIGHT
END:VTIMEZONE
BEGIN:VEVENT
UID:381cec6b-bbaf-496c-a8e2-d4534702ac10
DTSTAMP:20260424T222323Z
DESCRIPTION:Come join us for a special work cay in 'The Garden' at Hannah's
  House of Hope!\nWe will preparing grow beds and planting our Winter Garde
 n crops.\nRefreshments will be waiting!
DTSTART;TZID=America/Los_Angeles:20221119T083000
DTEND;TZID=America/Los_Angeles:20221119T120000
LOCATION:1157 JUDSON ST.\, REDLANDS\, CA 92374 US
SUMMARY:Volunteer Work Day
END:VEVENT
END:VCALENDAR
