BEGIN:VCALENDAR
VERSION:2.0
PRODID:-//theblessingcenterredlands.org//NONSGML kigkonsult.se iCalcreator 
 2.30.10//
CALSCALE:GREGORIAN
METHOD:PUBLISH
UID:01583909-8746-496b-a988-76f511b6177a
X-WR-CALDESC:Join us for in 'The Garden' at Hannah's House for creative cra
 fts and planting!
X-WR-RELCALID:77c1dd2446f9f7741a854d3f69257271
X-WR-TIMEZONE:America/Los_Angeles
BEGIN:VTIMEZONE
TZID:America/Los_Angeles
BEGIN:STANDARD
TZNAME:PST
DTSTART:20221106T020000
TZOFFSETFROM:-0700
TZOFFSETTO:-0800
RDATE:20231105T020000
END:STANDARD
BEGIN:DAYLIGHT
TZNAME:PDT
DTSTART:20220313T020000
TZOFFSETFROM:-0800
TZOFFSETTO:-0700
RDATE:20230312T020000
RDATE:20240310T020000
END:DAYLIGHT
END:VTIMEZONE
BEGIN:VEVENT
UID:99f67fe7-5000-4e7e-ae1a-e13108e9c046
DTSTAMP:20260424T222305Z
DESCRIPTION:Join us for in 'The Garden' at Hannah's House for creative craf
 ts and planting!
DTSTART;TZID=America/Los_Angeles:20221123T100000
DTEND;TZID=America/Los_Angeles:20221123T113000
LOCATION:Gardening and Activity Classes
SUMMARY:Sprout & Blossom
END:VEVENT
END:VCALENDAR
