BEGIN:VCALENDAR
VERSION:2.0
PRODID:-//theblessingcenterredlands.org//NONSGML kigkonsult.se iCalcreator 
 2.30.10//
CALSCALE:GREGORIAN
METHOD:PUBLISH
UID:6e42585f-8c89-4534-877b-dc3f9c75e83c
X-WR-CALDESC:A special Sprout & Blossom Holiday Event decorating candy cane
 s\, playing fun games\, making crafts and refreshments too!
X-WR-RELCALID:284aa9c6386746cc89dba207a721c9fe
X-WR-TIMEZONE:America/Los_Angeles
BEGIN:VTIMEZONE
TZID:America/Los_Angeles
BEGIN:STANDARD
TZNAME:PST
DTSTART:20221106T020000
TZOFFSETFROM:-0700
TZOFFSETTO:-0800
RDATE:20231105T020000
END:STANDARD
BEGIN:DAYLIGHT
TZNAME:PDT
DTSTART:20220313T020000
TZOFFSETFROM:-0800
TZOFFSETTO:-0700
RDATE:20230312T020000
RDATE:20240310T020000
END:DAYLIGHT
END:VTIMEZONE
BEGIN:VEVENT
UID:bdc86c86-5f86-402c-bc51-cc93c6cd6601
DTSTAMP:20260424T222214Z
DESCRIPTION:A special Sprout & Blossom Holiday Event decorating candy canes
 \, playing fun games\, making crafts and refreshments too!
DTSTART;TZID=America/Los_Angeles:20221210T100000
DTEND;TZID=America/Los_Angeles:20221210T113000
LOCATION:1157 JUDSON ST.\, REDLANDS\, CA 92374 US
SUMMARY:Candy Cane Days
END:VEVENT
END:VCALENDAR
