BEGIN:VCALENDAR
VERSION:2.0
PRODID:-//theblessingcenterredlands.org//NONSGML kigkonsult.se iCalcreator 
 2.30.10//
CALSCALE:GREGORIAN
METHOD:PUBLISH
UID:e034bc7b-edd5-4ce5-b594-fb13c58e4e46
X-WR-CALDESC:A special Sprout & Blossom Holiday Event!
X-WR-RELCALID:0f63b1cc8a8038da19e1184185d05acd
X-WR-TIMEZONE:America/Los_Angeles
BEGIN:VTIMEZONE
TZID:America/Los_Angeles
BEGIN:STANDARD
TZNAME:PST
DTSTART:20221106T020000
TZOFFSETFROM:-0700
TZOFFSETTO:-0800
RDATE:20231105T020000
END:STANDARD
BEGIN:DAYLIGHT
TZNAME:PDT
DTSTART:20220313T020000
TZOFFSETFROM:-0800
TZOFFSETTO:-0700
RDATE:20230312T020000
RDATE:20240310T020000
END:DAYLIGHT
END:VTIMEZONE
BEGIN:VEVENT
UID:79014479-d882-47c6-aecd-5fce8ebd6b23
DTSTAMP:20260424T222215Z
DESCRIPTION:A special Sprout & Blossom Holiday Event!
DTSTART;TZID=America/Los_Angeles:20221216T100000
DTEND;TZID=America/Los_Angeles:20221216T113000
LOCATION:1157 JUDSON ST.\, REDLANDS\, CA 92374 US
SUMMARY:Candy Cane Days
END:VEVENT
END:VCALENDAR
