BEGIN:VCALENDAR
VERSION:2.0
PRODID:-//theblessingcenterredlands.org//NONSGML kigkonsult.se iCalcreator 
 2.30.10//
CALSCALE:GREGORIAN
METHOD:PUBLISH
UID:a3c80b98-33ed-4122-b296-bb5e7f97606a
X-WR-CALDESC:Come and join in for this most special occasion to meet Santa 
 & Mrs.Clause\, food vendors\, arts & crafts\, fire trucks rides through th
 e neighborhood and much\, much more!
X-WR-RELCALID:f12864519307916264b120a25c47c6ec
X-WR-TIMEZONE:America/Los_Angeles
BEGIN:VTIMEZONE
TZID:America/Los_Angeles
BEGIN:STANDARD
TZNAME:PST
DTSTART:20221106T020000
TZOFFSETFROM:-0700
TZOFFSETTO:-0800
RDATE:20231105T020000
END:STANDARD
BEGIN:DAYLIGHT
TZNAME:PDT
DTSTART:20220313T020000
TZOFFSETFROM:-0800
TZOFFSETTO:-0700
RDATE:20230312T020000
RDATE:20240310T020000
END:DAYLIGHT
END:VTIMEZONE
BEGIN:VEVENT
UID:b0df1294-065c-4fac-8398-0f416cf86a29
DTSTAMP:20260424T222427Z
DESCRIPTION:Come and join in for this most special occasion to meet Santa &
  Mrs.Clause\, food vendors\, arts & crafts\, fire trucks rides through the
  neighborhood and much\, much more!
DTSTART;TZID=America/Los_Angeles:20221218T160000
DTEND;TZID=America/Los_Angeles:20221218T200000
LOCATION:Loads of fun for Christmas Joy in 'The Garden'
SUMMARY:CHRISTMAS in 'The Garden'
END:VEVENT
END:VCALENDAR
