BEGIN:VCALENDAR
VERSION:2.0
PRODID:-//theblessingcenterredlands.org//NONSGML kigkonsult.se iCalcreator 
 2.30.10//
CALSCALE:GREGORIAN
METHOD:PUBLISH
UID:81ef0b6f-04fc-41f2-b155-29eea2d401ce
X-WR-CALDESC:Come create and decorate a gingerbread house - light snacks an
 d beverages too!
X-WR-RELCALID:889a943341bee924f5ff8755296a45df
X-WR-TIMEZONE:America/Los_Angeles
BEGIN:VTIMEZONE
TZID:America/Los_Angeles
BEGIN:STANDARD
TZNAME:PST
DTSTART:20221106T020000
TZOFFSETFROM:-0700
TZOFFSETTO:-0800
RDATE:20231105T020000
END:STANDARD
BEGIN:DAYLIGHT
TZNAME:PDT
DTSTART:20220313T020000
TZOFFSETFROM:-0800
TZOFFSETTO:-0700
RDATE:20230312T020000
RDATE:20240310T020000
END:DAYLIGHT
END:VTIMEZONE
BEGIN:VEVENT
UID:cb53888e-88be-43a2-a7a3-a447875973af
DTSTAMP:20260424T222346Z
DESCRIPTION:Come create and decorate a gingerbread house - light snacks and
  beverages too!
DTSTART;TZID=America/Los_Angeles:20221220T110000
DTEND;TZID=America/Los_Angeles:20221220T123000
LOCATION:
SUMMARY:Sprout & Blossom Gingerbread Party
END:VEVENT
END:VCALENDAR
