BEGIN:VCALENDAR
VERSION:2.0
PRODID:-//theblessingcenterredlands.org//NONSGML kigkonsult.se iCalcreator 
 2.30.10//
CALSCALE:GREGORIAN
METHOD:PUBLISH
UID:fd44d358-6e1a-4bde-884a-929b191a2374
X-WR-CALDESC:Join us for a fun filled walk with many of our local Heroes - 
 Police Officers\, Firefighters\, Doctors\, Nurses\, First Responders\, Tea
 chers and Veterans.  Children fill their swag bags up with goodies as they
  walk through beautiful Prospect Park then on to The Burrage Mansion for b
 runch and bikes to raffle.
X-WR-RELCALID:03b651682f34b9390c3b71dd9a0a676a
X-WR-TIMEZONE:America/Los_Angeles
BEGIN:VTIMEZONE
TZID:America/Los_Angeles
BEGIN:STANDARD
TZNAME:PST
DTSTART:20221106T020000
TZOFFSETFROM:-0700
TZOFFSETTO:-0800
RDATE:20231105T020000
END:STANDARD
BEGIN:DAYLIGHT
TZNAME:PDT
DTSTART:20230312T020000
TZOFFSETFROM:-0800
TZOFFSETTO:-0700
RDATE:20240310T020000
END:DAYLIGHT
END:VTIMEZONE
BEGIN:VEVENT
UID:add8a196-d09e-4616-bb62-2968862b0d94
DTSTAMP:20260424T204359Z
DESCRIPTION:Join us for a fun filled walk with many of our local Heroes - P
 olice Officers\, Firefighters\, Doctors\, Nurses\, First Responders\, Teac
 hers and Veterans.  Children fill their swag bags up with goodies as they 
 walk through beautiful Prospect Park then on to The Burrage Mansion for br
 unch and bikes to raffle.
DTSTART;TZID=America/Los_Angeles:20230401T073000
DTEND;TZID=America/Los_Angeles:20230401T100000
LOCATION:Hike begins at Prospect Park with Brunch & Awards at Burrage Mansi
 on
SUMMARY:Hiking for Hope - Walk with Heroes
END:VEVENT
END:VCALENDAR
