BEGIN:VCALENDAR
VERSION:2.0
PRODID:-//theblessingcenterredlands.org//NONSGML kigkonsult.se iCalcreator 
 2.30.10//
CALSCALE:GREGORIAN
METHOD:PUBLISH
UID:7531c70a-cdba-46f4-a256-5e98ac19b4a7
X-WR-CALDESC:Your generous support of our annual golf charity event helps i
 ncrease the safety and security of so many local children and their mother
 s who desperately  need your support.
X-WR-RELCALID:905707574951ec787a7a7acd44a6c9bc
X-WR-TIMEZONE:America/Los_Angeles
BEGIN:VTIMEZONE
TZID:America/Los_Angeles
BEGIN:STANDARD
TZNAME:PST
DTSTART:20221106T020000
TZOFFSETFROM:-0700
TZOFFSETTO:-0800
RDATE:20231105T020000
RDATE:20241103T020000
END:STANDARD
BEGIN:DAYLIGHT
TZNAME:PDT
DTSTART:20230312T020000
TZOFFSETFROM:-0800
TZOFFSETTO:-0700
RDATE:20240310T020000
RDATE:20250309T020000
END:DAYLIGHT
END:VTIMEZONE
BEGIN:VEVENT
UID:0deacf3c-c4a6-4766-8e94-c59939e9f91a
DTSTAMP:20260424T204150Z
DESCRIPTION:Your generous support of our annual golf charity event helps in
 crease the safety and security of so many local children and their mothers
  who desperately  need your support.
DTSTART;TZID=America/Los_Angeles:20230922T063000
DTEND;TZID=America/Los_Angeles:20230922T130000
LOCATION:36211 Champion Dr. Beaumont CA 92223
SUMMARY:Golfing for Hope
END:VEVENT
END:VCALENDAR
