BEGIN:VCALENDAR
VERSION:2.0
PRODID:-//theblessingcenterredlands.org//NONSGML kigkonsult.se iCalcreator 
 2.30.10//
CALSCALE:GREGORIAN
METHOD:PUBLISH
UID:2db27336-96b6-4eeb-a504-1a5021c664f9
X-WR-CALDESC:Inviting families and friends of all ages to our annual Hallow
 een TRUNK OR TREAT Event!\nCrafts\, activities\, raffles and food.\nWear y
 our costumes\, free candy & lots of goodies and treats!
X-WR-RELCALID:ee1a90a0023c64e3632733283a6ba03d
X-WR-TIMEZONE:America/Los_Angeles
BEGIN:VTIMEZONE
TZID:America/Los_Angeles
BEGIN:STANDARD
TZNAME:PST
DTSTART:20221106T020000
TZOFFSETFROM:-0700
TZOFFSETTO:-0800
RDATE:20231105T020000
RDATE:20241103T020000
END:STANDARD
BEGIN:DAYLIGHT
TZNAME:PDT
DTSTART:20230312T020000
TZOFFSETFROM:-0800
TZOFFSETTO:-0700
RDATE:20240310T020000
RDATE:20250309T020000
END:DAYLIGHT
END:VTIMEZONE
BEGIN:VEVENT
UID:5214abcc-3449-4316-a124-a8be44180d7c
DTSTAMP:20260424T204538Z
DESCRIPTION:Inviting families and friends of all ages to our annual Hallowe
 en TRUNK OR TREAT Event!\nCrafts\, activities\, raffles and food.\nWear yo
 ur costumes\, free candy & lots of goodies and treats!
DTSTART;TZID=America/Los_Angeles:20231029T160000
DTEND;TZID=America/Los_Angeles:20231029T200000
LOCATION:1157 JUDSON ST\, REDLANDS\, CA 92374 US
SUMMARY:Trunk or Treat at Hannah's House!
END:VEVENT
END:VCALENDAR
