BEGIN:VCALENDAR
VERSION:2.0
PRODID:-//theblessingcenterredlands.org//NONSGML kigkonsult.se iCalcreator 
 2.30.10//
CALSCALE:GREGORIAN
METHOD:PUBLISH
UID:0c69ee2b-4770-4a31-9921-db80475eb2be
X-WR-CALDESC:
X-WR-RELCALID:a9f800bdd838f8b336a634c78a0ce364
X-WR-TIMEZONE:America/Los_Angeles
BEGIN:VTIMEZONE
TZID:America/Los_Angeles
BEGIN:STANDARD
TZNAME:PST
DTSTART:20231105T020000
TZOFFSETFROM:-0700
TZOFFSETTO:-0800
RDATE:20241103T020000
END:STANDARD
BEGIN:DAYLIGHT
TZNAME:PDT
DTSTART:20230312T020000
TZOFFSETFROM:-0800
TZOFFSETTO:-0700
RDATE:20240310T020000
RDATE:20250309T020000
END:DAYLIGHT
END:VTIMEZONE
BEGIN:VEVENT
UID:74c3e25c-6399-4c4c-8863-c7cd7903a0f1
DTSTAMP:20260424T204603Z
DESCRIPTION:
DTSTART;TZID=America/Los_Angeles:20231201T170000
DTEND;TZID=America/Los_Angeles:20231201T210000
LOCATION:1205 W. Crescent Ave. Redlands\,. CA 92374
SUMMARY:'Gifts of Hope' Gala (Copy)
END:VEVENT
END:VCALENDAR
