BEGIN:VCALENDAR
VERSION:2.0
PRODID:-//theblessingcenterredlands.org//NONSGML kigkonsult.se iCalcreator 
 2.30.10//
CALSCALE:GREGORIAN
METHOD:PUBLISH
UID:273a216a-be94-4b6c-8393-01df09b1c6a7
X-WR-CALDESC:
X-WR-RELCALID:a76099d181db19ed93eb5b20f0cf010b
X-WR-TIMEZONE:America/Los_Angeles
BEGIN:VTIMEZONE
TZID:America/Los_Angeles
BEGIN:STANDARD
TZNAME:PST
DTSTART:20231105T020000
TZOFFSETFROM:-0700
TZOFFSETTO:-0800
RDATE:20241103T020000
END:STANDARD
BEGIN:DAYLIGHT
TZNAME:PDT
DTSTART:20230312T020000
TZOFFSETFROM:-0800
TZOFFSETTO:-0700
RDATE:20240310T020000
RDATE:20250309T020000
END:DAYLIGHT
END:VTIMEZONE
BEGIN:VEVENT
UID:2c0a3101-674f-4eb0-b46a-46a1ec5b2c1d
DTSTAMP:20260424T204634Z
DESCRIPTION:
DTSTART;TZID=America/Los_Angeles:20231201T170000
DTEND;TZID=America/Los_Angeles:20231201T210000
LOCATION:1205 W. Crescent Ave. Redlands\,. CA 92374
SUMMARY:'Gifts of Hope' Gala
END:VEVENT
END:VCALENDAR
