BEGIN:VCALENDAR
VERSION:2.0
PRODID:-//theblessingcenterredlands.org//NONSGML kigkonsult.se iCalcreator 
 2.30.10//
CALSCALE:GREGORIAN
METHOD:PUBLISH
UID:4a2f4f47-78a0-407f-a875-c6a49e869119
X-WR-CALDESC:Our most fun and exciting event of the year! Visit with Santa\
 , Fire truck rides through the neighborhood\, hot cocoa bar\, firepit s'mo
 res\, fun crafts and games\, photo spots\, face painting and much\, much m
 ore! C
X-WR-RELCALID:7c72396d98ab7c39c15530f853f6d253
X-WR-TIMEZONE:America/Los_Angeles
BEGIN:VTIMEZONE
TZID:America/Los_Angeles
BEGIN:STANDARD
TZNAME:PST
DTSTART:20231105T020000
TZOFFSETFROM:-0700
TZOFFSETTO:-0800
RDATE:20241103T020000
END:STANDARD
BEGIN:DAYLIGHT
TZNAME:PDT
DTSTART:20230312T020000
TZOFFSETFROM:-0800
TZOFFSETTO:-0700
RDATE:20240310T020000
RDATE:20250309T020000
END:DAYLIGHT
END:VTIMEZONE
BEGIN:VEVENT
UID:1c4edb8d-5520-4d57-9f9f-433d34ea247e
DTSTAMP:20260424T204452Z
DESCRIPTION:Our most fun and exciting event of the year! Visit with Santa\,
  Fire truck rides through the neighborhood\, hot cocoa bar\, firepit s'mor
 es\, fun crafts and games\, photo spots\, face painting and much\, much mo
 re! C
DTSTART;TZID=America/Los_Angeles:20231210T150000
DTEND;TZID=America/Los_Angeles:20231210T193000
LOCATION:1157 JUDSON ST\, REDLANDS\, CA 92374 US
SUMMARY:CHRISTMAS IN THE GARDEN
END:VEVENT
END:VCALENDAR
