BEGIN:VCALENDAR
VERSION:2.0
PRODID:-//theblessingcenterredlands.org//NONSGML kigkonsult.se iCalcreator 
 2.30.10//
CALSCALE:GREGORIAN
METHOD:PUBLISH
UID:24ab16a5-ff28-406a-bba7-50b9710ae68b
X-WR-CALDESC:Join us for a FUN FILLED morning as we celebrate EARTH DAY! Lo
 ts of activities\, prizes\, drawings all centered around preparing\, plant
 ing and producing for this years harvest!
X-WR-RELCALID:b34918ff3e6ec8670b42fc8a8562a9c5
X-WR-TIMEZONE:America/Los_Angeles
BEGIN:VTIMEZONE
TZID:America/Los_Angeles
BEGIN:STANDARD
TZNAME:PST
DTSTART:20231105T020000
TZOFFSETFROM:-0700
TZOFFSETTO:-0800
RDATE:20241103T020000
END:STANDARD
BEGIN:DAYLIGHT
TZNAME:PDT
DTSTART:20240310T020000
TZOFFSETFROM:-0800
TZOFFSETTO:-0700
RDATE:20250309T020000
END:DAYLIGHT
END:VTIMEZONE
BEGIN:VEVENT
UID:a357b29c-150a-4c10-81e5-bf923f068d51
DTSTAMP:20260424T191412Z
DESCRIPTION:Join us for a FUN FILLED morning as we celebrate EARTH DAY! Lot
 s of activities\, prizes\, drawings all centered around preparing\, planti
 ng and producing for this years harvest!
DTSTART;TZID=America/Los_Angeles:20240420T090000
DTEND;TZID=America/Los_Angeles:20240420T120000
LOCATION:1157 JUDSON ST\, REDLANDS\, CA 92374 US
SUMMARY:Earth Day Event 2024
END:VEVENT
END:VCALENDAR
