BEGIN:VCALENDAR
VERSION:2.0
PRODID:-//theblessingcenterredlands.org//NONSGML kigkonsult.se iCalcreator 
 2.30.10//
CALSCALE:GREGORIAN
METHOD:PUBLISH
UID:a2dcba6e-1328-47b9-a98d-d0e2d719c385
X-WR-CALDESC:
X-WR-RELCALID:c8a1ad33fee03c05f78b35eee1be36d3
X-WR-TIMEZONE:America/Los_Angeles
BEGIN:VTIMEZONE
TZID:America/Los_Angeles
BEGIN:STANDARD
TZNAME:PST
DTSTART:20241103T020000
TZOFFSETFROM:-0700
TZOFFSETTO:-0800
RDATE:20251102T020000
END:STANDARD
BEGIN:DAYLIGHT
TZNAME:PDT
DTSTART:20240310T020000
TZOFFSETFROM:-0800
TZOFFSETTO:-0700
RDATE:20250309T020000
RDATE:20260308T020000
END:DAYLIGHT
END:VTIMEZONE
BEGIN:VEVENT
UID:2d3d2682-0d39-4e8f-916f-d50e5cddfb06
DTSTAMP:20260424T191526Z
DESCRIPTION:
DTSTART;TZID=America/Los_Angeles:20241205T170000
DTEND;TZID=America/Los_Angeles:20241205T210000
LOCATION:1205 W. Crescent Ave. Redlands\,. CA 92374
SUMMARY:'Gifts of Hope' Gala (Copy)
END:VEVENT
END:VCALENDAR
