BEGIN:VCALENDAR
VERSION:2.0
PRODID:-//theblessingcenterredlands.org//NONSGML kigkonsult.se iCalcreator 
 2.30.10//
CALSCALE:GREGORIAN
METHOD:PUBLISH
UID:20078bb6-c828-48ab-af0c-ce3ef626e303
X-WR-CALDESC:
X-WR-RELCALID:9610587167e15364cd642a210891ab0b
X-WR-TIMEZONE:America/Los_Angeles
BEGIN:VTIMEZONE
TZID:America/Los_Angeles
BEGIN:STANDARD
TZNAME:PST
DTSTART:20241103T020000
TZOFFSETFROM:-0700
TZOFFSETTO:-0800
RDATE:20251102T020000
END:STANDARD
BEGIN:DAYLIGHT
TZNAME:PDT
DTSTART:20240310T020000
TZOFFSETFROM:-0800
TZOFFSETTO:-0700
RDATE:20250309T020000
RDATE:20260308T020000
END:DAYLIGHT
END:VTIMEZONE
BEGIN:VEVENT
UID:46b9c52e-02db-4f7b-824b-cc66af609ded
DTSTAMP:20260424T191526Z
DESCRIPTION:
DTSTART;TZID=America/Los_Angeles:20241206T170000
DTEND;TZID=America/Los_Angeles:20241206T210000
LOCATION:1205 W. Crescent Ave. Redlands\,. CA 92374
SUMMARY:'Gifts of Hope' Gala
END:VEVENT
END:VCALENDAR
